BEGIN:VCALENDAR
VERSION:2.0
PRODID:-//Oakland Asian Cultural Center - ECPv6.15.18//NONSGML v1.0//EN
CALSCALE:GREGORIAN
METHOD:PUBLISH
X-ORIGINAL-URL:https://oacc.cc
X-WR-CALDESC:Events for Oakland Asian Cultural Center
REFRESH-INTERVAL;VALUE=DURATION:PT1H
X-Robots-Tag:noindex
X-PUBLISHED-TTL:PT1H
BEGIN:VTIMEZONE
TZID:America/Los_Angeles
BEGIN:DAYLIGHT
TZOFFSETFROM:-0800
TZOFFSETTO:-0700
TZNAME:PDT
DTSTART:20240310T100000
END:DAYLIGHT
BEGIN:STANDARD
TZOFFSETFROM:-0700
TZOFFSETTO:-0800
TZNAME:PST
DTSTART:20241103T090000
END:STANDARD
BEGIN:DAYLIGHT
TZOFFSETFROM:-0800
TZOFFSETTO:-0700
TZNAME:PDT
DTSTART:20250309T100000
END:DAYLIGHT
BEGIN:STANDARD
TZOFFSETFROM:-0700
TZOFFSETTO:-0800
TZNAME:PST
DTSTART:20251102T090000
END:STANDARD
BEGIN:DAYLIGHT
TZOFFSETFROM:-0800
TZOFFSETTO:-0700
TZNAME:PDT
DTSTART:20260308T100000
END:DAYLIGHT
BEGIN:STANDARD
TZOFFSETFROM:-0700
TZOFFSETTO:-0800
TZNAME:PST
DTSTART:20261101T090000
END:STANDARD
BEGIN:DAYLIGHT
TZOFFSETFROM:-0800
TZOFFSETTO:-0700
TZNAME:PDT
DTSTART:20270314T100000
END:DAYLIGHT
BEGIN:STANDARD
TZOFFSETFROM:-0700
TZOFFSETTO:-0800
TZNAME:PST
DTSTART:20271107T090000
END:STANDARD
END:VTIMEZONE
BEGIN:VEVENT
DTSTART;VALUE=DATE:20251105
DTEND;VALUE=DATE:20260201
DTSTAMP:20260420T065621
CREATED:20251028T175531Z
LAST-MODIFIED:20260106T195915Z
UID:22574-1762300800-1769903999@oacc.cc
SUMMARY:"The Asian Elder Portrait Project:" an Exhibition of Drawings by Luke Sera-Tacorda
DESCRIPTION:Saturday\, May 30\, 20267-9 pmFREE 								\n				\n					\n		\n					\n		\n				\n				\n							\n			\n		\n						\n				\n				\n				\n									Celebrating the Zither: Asian American Identity and Cultural Survival invites audiences into a powerful musical journey with accomplished musicians Shirley Muramoto and Winnie Wong\, where tradition becomes resilience and heritage becomes liberation. Through the luminous sounds of the koto and guzheng\, this program explores how cultural access is not just preservation—but survival—especially in the wake of histories like Japanese American incarceration and the ongoing shaping of Asian American identity.   Though visually similar\, the koto and guzheng carry distinct cultural lineages\, each echoing stories of endurance\, adaptation\, and belonging. In this concert\, they meet in collaboration and creative reimagining—bridging past and present\, individuality and shared experience.   This is a celebration of multiplicity: of holding many worlds at once\, of honoring what makes us unique while finding connection through sound. Through new works\, cross-cultural dialogue\, and bold reinterpretations\, Celebrating the Zither offers a space where music becomes a living testament to identity\, memory\, and the freedom to define what it means to be Asian-American. 								\n				\n				\n				\n							\n			\n		\n						\n				\n				\n						\n					\n			\n						\n				\n									\n					\n						\n									Register for Free Tickets\n					\n					\n				\n								\n				\n					\n		\n					\n		\n				\n				\n							\n			\n		\n						\n				\n				\n						\n					\n			\n						\n				\n																														\n				\n				\n				\n							\n			\n		\n						\n				\n					\n		\n				\n			\n						\n				\n									About Shirley Muramoto   Shirley Kazuyo Muramoto\, Koto musician\, teacher\, band leader\, filmmaker\, event producer\, has played the Japanese koto since a young child under the tutelage of her mother\, Kazuko Muramoto. She continued to study traditional Japanese koto and jiuta shamisen music with masters Chikushi Katsuko\, Kazue Kudo\, and Yoko Gates. Shirley plays the koto in various styles and genres\, expanding the repertoire of traditional music through collaborations\, arrangements\, and compositions.    Based in Oakland\, Calif.\, she received her Shihan koto teaching credential with Yushusho (highest) honors and her Dai Shihan master’s credential from the Chikushi Kai in Japan. This year is her official 50th anniversary since receiving her koto teaching certification. In 2012\, the Hokka Nichi Bei Kai inducted Shirley into the Bunka (Japanese cultural arts) Hall of Fame. In that same year\, the National Park Service’s Japanese American Confinement Sites Grant Program awarded her funding for the documentary film “Hidden Legacy: Japanese Traditional Performing Arts in the World War II Internment Camps” (2014)\, culminating her decades-long research on this little-known part of U.S. history.    In 2024\, Shirley became one of the artists awarded by the Alliance for California Traditional Arts and Mellon Foundation for the inaugural Taproot Fellowship’s recognition of traditional artists and culture bearers across the U.S. in 2024. Shirley continues to talk to students and organizations about the history of music in the WWII camps\, and the importance of keeping cultural heritage practices in our lives. 								\n				\n					\n		\n					\n		\n				\n				\n							\n			\n		\n						\n				\n				\n						\n					\n			\n						\n				\n																														\n				\n				\n				\n							\n			\n		\n						\n				\n					\n		\n				\n			\n						\n				\n									About Winnie Wong   Winnie Wong is a Hong Kong–born\, San Francisco–raised guzheng artist who began training at age four under virtuoso Weishan Liu and debuted publicly at five. Deeply rooted in her Chinese heritage\, she uses the guzheng not only to preserve tradition but to foster cultural connection and diversity within her community.   Over four decades\, Wong has built a distinctive artistic voice that blends Chinese classical and traditional music with jazz\, world music\, and improvisation. She is the founder of China’s Spirit Music Ensemble\, creating a nurturing space for students to develop both technical skill and cultural understanding. Expanding beyond tradition\, she performs as principal guzheng soloist with The Ultra World X-tet and collaborates in cross-cultural projects such as the Irish-Chinese duo Willow Stream and Asian zither collaborations.   Wong’s work is defined by storytelling through sound—her compositions weave imagery\, emotion\, and global influences into immersive musical experiences. Her career reflects a lifelong commitment to bridging cultures\, inspiring new generations\, and redefining the guzheng as a dynamic\, contemporary instrument. She was honored with the “Musician of the Heart” award in 2016 for her cultural impact and artistic dedication.  
URL:https://oacc.cc/event/asian-elder-portrait/
LOCATION:Oakland Asian Cultural Center\, 388 9th St. #290\, Oakland\, CA\, 94607\, United States
CATEGORIES:Current Exhibitions
ATTACH;FMTTYPE=image/jpeg:https://oacc.cc/wp-content/uploads/2025/10/Luke-Sera-Tacorda-1080-x-1080-PREVIEW.jpg
ORGANIZER;CN="Oakland Asian Cultural Center":MAILTO:programs@oacc.cc
END:VEVENT
BEGIN:VEVENT
DTSTART;TZID=America/Los_Angeles:20260109T120000
DTEND;TZID=America/Los_Angeles:20260109T130000
DTSTAMP:20260420T065621
CREATED:20251216T062046Z
LAST-MODIFIED:20260106T195717Z
UID:22737-1767960000-1767963600@oacc.cc
SUMMARY:January Mending Circle
DESCRIPTION:Saturday\, May 30\, 20267-9 pmFREE 								\n				\n					\n		\n					\n		\n				\n				\n							\n			\n		\n						\n				\n				\n				\n									Celebrating the Zither: Asian American Identity and Cultural Survival invites audiences into a powerful musical journey with accomplished musicians Shirley Muramoto and Winnie Wong\, where tradition becomes resilience and heritage becomes liberation. Through the luminous sounds of the koto and guzheng\, this program explores how cultural access is not just preservation—but survival—especially in the wake of histories like Japanese American incarceration and the ongoing shaping of Asian American identity.   Though visually similar\, the koto and guzheng carry distinct cultural lineages\, each echoing stories of endurance\, adaptation\, and belonging. In this concert\, they meet in collaboration and creative reimagining—bridging past and present\, individuality and shared experience.   This is a celebration of multiplicity: of holding many worlds at once\, of honoring what makes us unique while finding connection through sound. Through new works\, cross-cultural dialogue\, and bold reinterpretations\, Celebrating the Zither offers a space where music becomes a living testament to identity\, memory\, and the freedom to define what it means to be Asian-American. 								\n				\n				\n				\n							\n			\n		\n						\n				\n				\n						\n					\n			\n						\n				\n									\n					\n						\n									Register for Free Tickets\n					\n					\n				\n								\n				\n					\n		\n					\n		\n				\n				\n							\n			\n		\n						\n				\n				\n						\n					\n			\n						\n				\n																														\n				\n				\n				\n							\n			\n		\n						\n				\n					\n		\n				\n			\n						\n				\n									About Shirley Muramoto   Shirley Kazuyo Muramoto\, Koto musician\, teacher\, band leader\, filmmaker\, event producer\, has played the Japanese koto since a young child under the tutelage of her mother\, Kazuko Muramoto. She continued to study traditional Japanese koto and jiuta shamisen music with masters Chikushi Katsuko\, Kazue Kudo\, and Yoko Gates. Shirley plays the koto in various styles and genres\, expanding the repertoire of traditional music through collaborations\, arrangements\, and compositions.    Based in Oakland\, Calif.\, she received her Shihan koto teaching credential with Yushusho (highest) honors and her Dai Shihan master’s credential from the Chikushi Kai in Japan. This year is her official 50th anniversary since receiving her koto teaching certification. In 2012\, the Hokka Nichi Bei Kai inducted Shirley into the Bunka (Japanese cultural arts) Hall of Fame. In that same year\, the National Park Service’s Japanese American Confinement Sites Grant Program awarded her funding for the documentary film “Hidden Legacy: Japanese Traditional Performing Arts in the World War II Internment Camps” (2014)\, culminating her decades-long research on this little-known part of U.S. history.    In 2024\, Shirley became one of the artists awarded by the Alliance for California Traditional Arts and Mellon Foundation for the inaugural Taproot Fellowship’s recognition of traditional artists and culture bearers across the U.S. in 2024. Shirley continues to talk to students and organizations about the history of music in the WWII camps\, and the importance of keeping cultural heritage practices in our lives. 								\n				\n					\n		\n					\n		\n				\n				\n							\n			\n		\n						\n				\n				\n						\n					\n			\n						\n				\n																														\n				\n				\n				\n							\n			\n		\n						\n				\n					\n		\n				\n			\n						\n				\n									About Winnie Wong   Winnie Wong is a Hong Kong–born\, San Francisco–raised guzheng artist who began training at age four under virtuoso Weishan Liu and debuted publicly at five. Deeply rooted in her Chinese heritage\, she uses the guzheng not only to preserve tradition but to foster cultural connection and diversity within her community.   Over four decades\, Wong has built a distinctive artistic voice that blends Chinese classical and traditional music with jazz\, world music\, and improvisation. She is the founder of China’s Spirit Music Ensemble\, creating a nurturing space for students to develop both technical skill and cultural understanding. Expanding beyond tradition\, she performs as principal guzheng soloist with The Ultra World X-tet and collaborates in cross-cultural projects such as the Irish-Chinese duo Willow Stream and Asian zither collaborations.   Wong’s work is defined by storytelling through sound—her compositions weave imagery\, emotion\, and global influences into immersive musical experiences. Her career reflects a lifelong commitment to bridging cultures\, inspiring new generations\, and redefining the guzheng as a dynamic\, contemporary instrument. She was honored with the “Musician of the Heart” award in 2016 for her cultural impact and artistic dedication.  
URL:https://oacc.cc/event/mending-jan2026/
LOCATION:Oakland Asian Cultural Center\, 388 9th St. #290\, Oakland\, CA\, 94607\, United States
CATEGORIES:Upcoming Events
ATTACH;FMTTYPE=image/png:https://oacc.cc/wp-content/uploads/2025/11/Mending-Circle-Evergreen-Preview-White-Background.png
ORGANIZER;CN="Oakland Asian Cultural Center":MAILTO:programs@oacc.cc
END:VEVENT
BEGIN:VEVENT
DTSTART;TZID=America/Los_Angeles:20260110T160000
DTEND;TZID=America/Los_Angeles:20260110T180000
DTSTAMP:20260420T065621
CREATED:20251212T053126Z
LAST-MODIFIED:20251212T183728Z
UID:22709-1768060800-1768068000@oacc.cc
SUMMARY:Chinese Couplets: A Film by Felicia Lowe
DESCRIPTION:Saturday\, May 30\, 20267-9 pmFREE 								\n				\n					\n		\n					\n		\n				\n				\n							\n			\n		\n						\n				\n				\n				\n									Celebrating the Zither: Asian American Identity and Cultural Survival invites audiences into a powerful musical journey with accomplished musicians Shirley Muramoto and Winnie Wong\, where tradition becomes resilience and heritage becomes liberation. Through the luminous sounds of the koto and guzheng\, this program explores how cultural access is not just preservation—but survival—especially in the wake of histories like Japanese American incarceration and the ongoing shaping of Asian American identity.   Though visually similar\, the koto and guzheng carry distinct cultural lineages\, each echoing stories of endurance\, adaptation\, and belonging. In this concert\, they meet in collaboration and creative reimagining—bridging past and present\, individuality and shared experience.   This is a celebration of multiplicity: of holding many worlds at once\, of honoring what makes us unique while finding connection through sound. Through new works\, cross-cultural dialogue\, and bold reinterpretations\, Celebrating the Zither offers a space where music becomes a living testament to identity\, memory\, and the freedom to define what it means to be Asian-American. 								\n				\n				\n				\n							\n			\n		\n						\n				\n				\n						\n					\n			\n						\n				\n									\n					\n						\n									Register for Free Tickets\n					\n					\n				\n								\n				\n					\n		\n					\n		\n				\n				\n							\n			\n		\n						\n				\n				\n						\n					\n			\n						\n				\n																														\n				\n				\n				\n							\n			\n		\n						\n				\n					\n		\n				\n			\n						\n				\n									About Shirley Muramoto   Shirley Kazuyo Muramoto\, Koto musician\, teacher\, band leader\, filmmaker\, event producer\, has played the Japanese koto since a young child under the tutelage of her mother\, Kazuko Muramoto. She continued to study traditional Japanese koto and jiuta shamisen music with masters Chikushi Katsuko\, Kazue Kudo\, and Yoko Gates. Shirley plays the koto in various styles and genres\, expanding the repertoire of traditional music through collaborations\, arrangements\, and compositions.    Based in Oakland\, Calif.\, she received her Shihan koto teaching credential with Yushusho (highest) honors and her Dai Shihan master’s credential from the Chikushi Kai in Japan. This year is her official 50th anniversary since receiving her koto teaching certification. In 2012\, the Hokka Nichi Bei Kai inducted Shirley into the Bunka (Japanese cultural arts) Hall of Fame. In that same year\, the National Park Service’s Japanese American Confinement Sites Grant Program awarded her funding for the documentary film “Hidden Legacy: Japanese Traditional Performing Arts in the World War II Internment Camps” (2014)\, culminating her decades-long research on this little-known part of U.S. history.    In 2024\, Shirley became one of the artists awarded by the Alliance for California Traditional Arts and Mellon Foundation for the inaugural Taproot Fellowship’s recognition of traditional artists and culture bearers across the U.S. in 2024. Shirley continues to talk to students and organizations about the history of music in the WWII camps\, and the importance of keeping cultural heritage practices in our lives. 								\n				\n					\n		\n					\n		\n				\n				\n							\n			\n		\n						\n				\n				\n						\n					\n			\n						\n				\n																														\n				\n				\n				\n							\n			\n		\n						\n				\n					\n		\n				\n			\n						\n				\n									About Winnie Wong   Winnie Wong is a Hong Kong–born\, San Francisco–raised guzheng artist who began training at age four under virtuoso Weishan Liu and debuted publicly at five. Deeply rooted in her Chinese heritage\, she uses the guzheng not only to preserve tradition but to foster cultural connection and diversity within her community.   Over four decades\, Wong has built a distinctive artistic voice that blends Chinese classical and traditional music with jazz\, world music\, and improvisation. She is the founder of China’s Spirit Music Ensemble\, creating a nurturing space for students to develop both technical skill and cultural understanding. Expanding beyond tradition\, she performs as principal guzheng soloist with The Ultra World X-tet and collaborates in cross-cultural projects such as the Irish-Chinese duo Willow Stream and Asian zither collaborations.   Wong’s work is defined by storytelling through sound—her compositions weave imagery\, emotion\, and global influences into immersive musical experiences. Her career reflects a lifelong commitment to bridging cultures\, inspiring new generations\, and redefining the guzheng as a dynamic\, contemporary instrument. She was honored with the “Musician of the Heart” award in 2016 for her cultural impact and artistic dedication.  
URL:https://oacc.cc/event/chinese-couplets/
LOCATION:Oakland Asian Cultural Center\, 388 9th St. #290\, Oakland\, CA\, 94607\, United States
CATEGORIES:Featured,Upcoming Events
ATTACH;FMTTYPE=image/png:https://oacc.cc/wp-content/uploads/2025/12/Chinese-Couplets-Preview-1080-x-1080-px.png
ORGANIZER;CN="Oakland Asian Cultural Center":MAILTO:programs@oacc.cc
END:VEVENT
BEGIN:VEVENT
DTSTART;TZID=America/Los_Angeles:20260111T130000
DTEND;TZID=America/Los_Angeles:20260111T143000
DTSTAMP:20260420T065621
CREATED:20251030T163029Z
LAST-MODIFIED:20251216T052106Z
UID:22603-1768136400-1768141800@oacc.cc
SUMMARY:From Ally to Activated: Breaking Barriers to Community Action
DESCRIPTION:Saturday\, May 30\, 20267-9 pmFREE 								\n				\n					\n		\n					\n		\n				\n				\n							\n			\n		\n						\n				\n				\n				\n									Celebrating the Zither: Asian American Identity and Cultural Survival invites audiences into a powerful musical journey with accomplished musicians Shirley Muramoto and Winnie Wong\, where tradition becomes resilience and heritage becomes liberation. Through the luminous sounds of the koto and guzheng\, this program explores how cultural access is not just preservation—but survival—especially in the wake of histories like Japanese American incarceration and the ongoing shaping of Asian American identity.   Though visually similar\, the koto and guzheng carry distinct cultural lineages\, each echoing stories of endurance\, adaptation\, and belonging. In this concert\, they meet in collaboration and creative reimagining—bridging past and present\, individuality and shared experience.   This is a celebration of multiplicity: of holding many worlds at once\, of honoring what makes us unique while finding connection through sound. Through new works\, cross-cultural dialogue\, and bold reinterpretations\, Celebrating the Zither offers a space where music becomes a living testament to identity\, memory\, and the freedom to define what it means to be Asian-American. 								\n				\n				\n				\n							\n			\n		\n						\n				\n				\n						\n					\n			\n						\n				\n									\n					\n						\n									Register for Free Tickets\n					\n					\n				\n								\n				\n					\n		\n					\n		\n				\n				\n							\n			\n		\n						\n				\n				\n						\n					\n			\n						\n				\n																														\n				\n				\n				\n							\n			\n		\n						\n				\n					\n		\n				\n			\n						\n				\n									About Shirley Muramoto   Shirley Kazuyo Muramoto\, Koto musician\, teacher\, band leader\, filmmaker\, event producer\, has played the Japanese koto since a young child under the tutelage of her mother\, Kazuko Muramoto. She continued to study traditional Japanese koto and jiuta shamisen music with masters Chikushi Katsuko\, Kazue Kudo\, and Yoko Gates. Shirley plays the koto in various styles and genres\, expanding the repertoire of traditional music through collaborations\, arrangements\, and compositions.    Based in Oakland\, Calif.\, she received her Shihan koto teaching credential with Yushusho (highest) honors and her Dai Shihan master’s credential from the Chikushi Kai in Japan. This year is her official 50th anniversary since receiving her koto teaching certification. In 2012\, the Hokka Nichi Bei Kai inducted Shirley into the Bunka (Japanese cultural arts) Hall of Fame. In that same year\, the National Park Service’s Japanese American Confinement Sites Grant Program awarded her funding for the documentary film “Hidden Legacy: Japanese Traditional Performing Arts in the World War II Internment Camps” (2014)\, culminating her decades-long research on this little-known part of U.S. history.    In 2024\, Shirley became one of the artists awarded by the Alliance for California Traditional Arts and Mellon Foundation for the inaugural Taproot Fellowship’s recognition of traditional artists and culture bearers across the U.S. in 2024. Shirley continues to talk to students and organizations about the history of music in the WWII camps\, and the importance of keeping cultural heritage practices in our lives. 								\n				\n					\n		\n					\n		\n				\n				\n							\n			\n		\n						\n				\n				\n						\n					\n			\n						\n				\n																														\n				\n				\n				\n							\n			\n		\n						\n				\n					\n		\n				\n			\n						\n				\n									About Winnie Wong   Winnie Wong is a Hong Kong–born\, San Francisco–raised guzheng artist who began training at age four under virtuoso Weishan Liu and debuted publicly at five. Deeply rooted in her Chinese heritage\, she uses the guzheng not only to preserve tradition but to foster cultural connection and diversity within her community.   Over four decades\, Wong has built a distinctive artistic voice that blends Chinese classical and traditional music with jazz\, world music\, and improvisation. She is the founder of China’s Spirit Music Ensemble\, creating a nurturing space for students to develop both technical skill and cultural understanding. Expanding beyond tradition\, she performs as principal guzheng soloist with The Ultra World X-tet and collaborates in cross-cultural projects such as the Irish-Chinese duo Willow Stream and Asian zither collaborations.   Wong’s work is defined by storytelling through sound—her compositions weave imagery\, emotion\, and global influences into immersive musical experiences. Her career reflects a lifelong commitment to bridging cultures\, inspiring new generations\, and redefining the guzheng as a dynamic\, contemporary instrument. She was honored with the “Musician of the Heart” award in 2016 for her cultural impact and artistic dedication.  
URL:https://oacc.cc/event/activated/
LOCATION:Oakland Asian Cultural Center\, 388 9th St. #290\, Oakland\, CA\, 94607\, United States
CATEGORIES:Featured,Upcoming Events
ATTACH;FMTTYPE=image/png:https://oacc.cc/wp-content/uploads/2025/10/Redesigned-Get-Activated-FB-1080-x-1080-px-1.png
ORGANIZER;CN="Oakland Asian Cultural Center":MAILTO:programs@oacc.cc
END:VEVENT
BEGIN:VEVENT
DTSTART;TZID=America/Los_Angeles:20260125T140000
DTEND;TZID=America/Los_Angeles:20260125T160000
DTSTAMP:20260420T065621
CREATED:20251229T212949Z
LAST-MODIFIED:20251229T213238Z
UID:22767-1769349600-1769356800@oacc.cc
SUMMARY:Reparations: A Film by Jon Osaki
DESCRIPTION:Saturday\, May 30\, 20267-9 pmFREE 								\n				\n					\n		\n					\n		\n				\n				\n							\n			\n		\n						\n				\n				\n				\n									Celebrating the Zither: Asian American Identity and Cultural Survival invites audiences into a powerful musical journey with accomplished musicians Shirley Muramoto and Winnie Wong\, where tradition becomes resilience and heritage becomes liberation. Through the luminous sounds of the koto and guzheng\, this program explores how cultural access is not just preservation—but survival—especially in the wake of histories like Japanese American incarceration and the ongoing shaping of Asian American identity.   Though visually similar\, the koto and guzheng carry distinct cultural lineages\, each echoing stories of endurance\, adaptation\, and belonging. In this concert\, they meet in collaboration and creative reimagining—bridging past and present\, individuality and shared experience.   This is a celebration of multiplicity: of holding many worlds at once\, of honoring what makes us unique while finding connection through sound. Through new works\, cross-cultural dialogue\, and bold reinterpretations\, Celebrating the Zither offers a space where music becomes a living testament to identity\, memory\, and the freedom to define what it means to be Asian-American. 								\n				\n				\n				\n							\n			\n		\n						\n				\n				\n						\n					\n			\n						\n				\n									\n					\n						\n									Register for Free Tickets\n					\n					\n				\n								\n				\n					\n		\n					\n		\n				\n				\n							\n			\n		\n						\n				\n				\n						\n					\n			\n						\n				\n																														\n				\n				\n				\n							\n			\n		\n						\n				\n					\n		\n				\n			\n						\n				\n									About Shirley Muramoto   Shirley Kazuyo Muramoto\, Koto musician\, teacher\, band leader\, filmmaker\, event producer\, has played the Japanese koto since a young child under the tutelage of her mother\, Kazuko Muramoto. She continued to study traditional Japanese koto and jiuta shamisen music with masters Chikushi Katsuko\, Kazue Kudo\, and Yoko Gates. Shirley plays the koto in various styles and genres\, expanding the repertoire of traditional music through collaborations\, arrangements\, and compositions.    Based in Oakland\, Calif.\, she received her Shihan koto teaching credential with Yushusho (highest) honors and her Dai Shihan master’s credential from the Chikushi Kai in Japan. This year is her official 50th anniversary since receiving her koto teaching certification. In 2012\, the Hokka Nichi Bei Kai inducted Shirley into the Bunka (Japanese cultural arts) Hall of Fame. In that same year\, the National Park Service’s Japanese American Confinement Sites Grant Program awarded her funding for the documentary film “Hidden Legacy: Japanese Traditional Performing Arts in the World War II Internment Camps” (2014)\, culminating her decades-long research on this little-known part of U.S. history.    In 2024\, Shirley became one of the artists awarded by the Alliance for California Traditional Arts and Mellon Foundation for the inaugural Taproot Fellowship’s recognition of traditional artists and culture bearers across the U.S. in 2024. Shirley continues to talk to students and organizations about the history of music in the WWII camps\, and the importance of keeping cultural heritage practices in our lives. 								\n				\n					\n		\n					\n		\n				\n				\n							\n			\n		\n						\n				\n				\n						\n					\n			\n						\n				\n																														\n				\n				\n				\n							\n			\n		\n						\n				\n					\n		\n				\n			\n						\n				\n									About Winnie Wong   Winnie Wong is a Hong Kong–born\, San Francisco–raised guzheng artist who began training at age four under virtuoso Weishan Liu and debuted publicly at five. Deeply rooted in her Chinese heritage\, she uses the guzheng not only to preserve tradition but to foster cultural connection and diversity within her community.   Over four decades\, Wong has built a distinctive artistic voice that blends Chinese classical and traditional music with jazz\, world music\, and improvisation. She is the founder of China’s Spirit Music Ensemble\, creating a nurturing space for students to develop both technical skill and cultural understanding. Expanding beyond tradition\, she performs as principal guzheng soloist with The Ultra World X-tet and collaborates in cross-cultural projects such as the Irish-Chinese duo Willow Stream and Asian zither collaborations.   Wong’s work is defined by storytelling through sound—her compositions weave imagery\, emotion\, and global influences into immersive musical experiences. Her career reflects a lifelong commitment to bridging cultures\, inspiring new generations\, and redefining the guzheng as a dynamic\, contemporary instrument. She was honored with the “Musician of the Heart” award in 2016 for her cultural impact and artistic dedication.  
URL:https://oacc.cc/event/reparations-film/
LOCATION:Oakland Asian Cultural Center\, 388 9th St. #290\, Oakland\, CA\, 94607\, United States
CATEGORIES:Featured,Upcoming Events
ATTACH;FMTTYPE=image/png:https://oacc.cc/wp-content/uploads/2025/12/Reparations-FB-1080-x-1080-px.png
ORGANIZER;CN="Oakland Asian Cultural Center":MAILTO:programs@oacc.cc
END:VEVENT
END:VCALENDAR