BEGIN:VCALENDAR
VERSION:2.0
PRODID:-//Oakland Asian Cultural Center - ECPv6.15.20//NONSGML v1.0//EN
CALSCALE:GREGORIAN
METHOD:PUBLISH
X-WR-CALNAME:Oakland Asian Cultural Center
X-ORIGINAL-URL:https://oacc.cc
X-WR-CALDESC:Events for Oakland Asian Cultural Center
REFRESH-INTERVAL;VALUE=DURATION:PT1H
X-Robots-Tag:noindex
X-PUBLISHED-TTL:PT1H
BEGIN:VTIMEZONE
TZID:America/Los_Angeles
BEGIN:DAYLIGHT
TZOFFSETFROM:-0800
TZOFFSETTO:-0700
TZNAME:PDT
DTSTART:20230312T100000
END:DAYLIGHT
BEGIN:STANDARD
TZOFFSETFROM:-0700
TZOFFSETTO:-0800
TZNAME:PST
DTSTART:20231105T090000
END:STANDARD
BEGIN:DAYLIGHT
TZOFFSETFROM:-0800
TZOFFSETTO:-0700
TZNAME:PDT
DTSTART:20240310T100000
END:DAYLIGHT
BEGIN:STANDARD
TZOFFSETFROM:-0700
TZOFFSETTO:-0800
TZNAME:PST
DTSTART:20241103T090000
END:STANDARD
BEGIN:DAYLIGHT
TZOFFSETFROM:-0800
TZOFFSETTO:-0700
TZNAME:PDT
DTSTART:20250309T100000
END:DAYLIGHT
BEGIN:STANDARD
TZOFFSETFROM:-0700
TZOFFSETTO:-0800
TZNAME:PST
DTSTART:20251102T090000
END:STANDARD
END:VTIMEZONE
BEGIN:VEVENT
DTSTART;TZID=America/Los_Angeles:20240306T120000
DTEND;TZID=America/Los_Angeles:20240324T170000
DTSTAMP:20260422T132240
CREATED:20240214T214248Z
LAST-MODIFIED:20240318T234601Z
UID:18007-1709726400-1711299600@oacc.cc
SUMMARY:Passage: A Dancing Moons Festival Art Exhibition
DESCRIPTION:Dalit dreamlands: toward an anti-caste future				\n				\n				\n				\n									Asian American Women Artists Association (AAWAA)\, ARTogether\, Discostan\, and Oakland Asian Cultural Center co-presents “Dalit Dreamlands: Toward an Anti-Caste Future” – a landmark multimedia Dalit art exhibition and dance party that will bring together over 30 multiply marginalized artists from Dalit*\, Adivasi*\, Bahujan*\, Afro-Indian\, Indo-Caribbean\, and Muslim communities to showcase the depths of creativity and community.Dalit Dreamlands\, curated by Manu Kaur (they/them) and supported through AAWAA’s Emerging Curator’s Program\, will center queer and trans caste abolitionist futurisms through art across various mediums\, including fashion design\, music\, performances\, films\, paintings and visuals. One of the headlining artists\, Malvika Raj\, is a Dalit artist who challenges the casteist restrictions present in the Madhubani style of painting\, by incorporating pro-Dalit assertions into her intricate and hypnotizing designs. Nazrina Rodjan is a queer Indo-Surinamese artist who integrates the history of indentured labor and femme resilience within her large paintings of indentured Indian women.London-based trans Dalit artist Mya Mehmi from Pxssy Palace will be one of four guest DJs and performers at the opening reception dance party in collaboration with Discostan’s Arshia Fatima Haq. Dalit Dreamlands is a historic event that marks one of the first queer Dalit-centered spaces to exist in California.*Dalit is a caste marker for caste-oppressed communities formerly known as Untouchables\, Adivasi refers to tribes who are indigenous to South Asia\, and Bahujan is an umbrella term that includes all caste-oppressed communities. CURATORManu KaurEXHIBITING ARTISTSRinku Kumari\, Jessie Sohpaul\, Shivam Kamble\, Nazrina Rodjan\, Manpreet Singh\, Malvika Raj\, Seema Mattu\, Mya Mehmi\, Seema Hari\, Shyama Kuver\, Akhil Kang\, Kaushik Tadvi\, Rahee Punyashloka\, Aravind Chedayan\, Ajay Madhukar Dhoke\, Shweta Ashokraj\, Kamna Singh\, Anika Nawar Ullah\, Aindriya Barua\, Ramnath Siddi\, Siddi Tribe of Karnataka\, Nrithya Pillai\, Dalit Queer Project\, Parth Pawar\, Imaan Abbasi\, Sri Vamsi Matta\, R V Purusothaman (Purushu Arie)\, Shradha Raj\, Jay Sagathia\, Dee Chawla\, Mia Kaur\, Riri Kumbhar\, Rohini bhadarge\, John Spencer\, Kulpreet Rana\, & Simrah FarrukhEvent graphic by Parth Pawar. Opening Reception DatesApril 6\, 2024:5:30 PM – 7:30 PM @ Oakland Asian Cultural Center6:00 PM – 8:00 PM @ ARTogether\, Oakland Both venues are only 4 blocks away from each other. Enjoy both in the same evening! ZINDAGI DANCE PARTYApril 6\, 2024 from 8:00 PM – 1:00 AM @ 7th West\, OaklandFeaturing Dalit Bahujan DJs: DJ Anjali\, DJ Arshia\, and DJ Seema Hari								\n				\n				\n				\n									\n					\n						\n									Register
URL:https://oacc.cc/event/passageexhibit/
LOCATION:Oakland Asian Cultural Center\, 388 9th St. #290\, Oakland\, CA\, 94607\, United States
CATEGORIES:Current Exhibitions
ATTACH;FMTTYPE=image/jpeg:https://oacc.cc/wp-content/uploads/2024/02/oakland-ballet-exhibition.jpg
ORGANIZER;CN="Oakland Asian Cultural Center":MAILTO:programs@oacc.cc
END:VEVENT
END:VCALENDAR