BEGIN:VCALENDAR
VERSION:2.0
PRODID:-//Oakland Asian Cultural Center - ECPv6.15.20//NONSGML v1.0//EN
CALSCALE:GREGORIAN
METHOD:PUBLISH
X-WR-CALNAME:Oakland Asian Cultural Center
X-ORIGINAL-URL:https://oacc.cc
X-WR-CALDESC:Events for Oakland Asian Cultural Center
REFRESH-INTERVAL;VALUE=DURATION:PT1H
X-Robots-Tag:noindex
X-PUBLISHED-TTL:PT1H
BEGIN:VTIMEZONE
TZID:America/Los_Angeles
BEGIN:DAYLIGHT
TZOFFSETFROM:-0800
TZOFFSETTO:-0700
TZNAME:PDT
DTSTART:20240310T100000
END:DAYLIGHT
BEGIN:STANDARD
TZOFFSETFROM:-0700
TZOFFSETTO:-0800
TZNAME:PST
DTSTART:20241103T090000
END:STANDARD
BEGIN:DAYLIGHT
TZOFFSETFROM:-0800
TZOFFSETTO:-0700
TZNAME:PDT
DTSTART:20250309T100000
END:DAYLIGHT
BEGIN:STANDARD
TZOFFSETFROM:-0700
TZOFFSETTO:-0800
TZNAME:PST
DTSTART:20251102T090000
END:STANDARD
BEGIN:DAYLIGHT
TZOFFSETFROM:-0800
TZOFFSETTO:-0700
TZNAME:PDT
DTSTART:20260308T100000
END:DAYLIGHT
BEGIN:STANDARD
TZOFFSETFROM:-0700
TZOFFSETTO:-0800
TZNAME:PST
DTSTART:20261101T090000
END:STANDARD
END:VTIMEZONE
BEGIN:VEVENT
DTSTART;TZID=America/Los_Angeles:20250516T120000
DTEND;TZID=America/Los_Angeles:20250809T170000
DTSTAMP:20260423T042417
CREATED:20250409T223815Z
LAST-MODIFIED:20250625T180524Z
UID:21237-1747396800-1754758800@oacc.cc
SUMMARY:Satr-e Rahayi: An Exhibition of Calligraphy Works by Hakim Karimzada
DESCRIPTION:NOW EXTENDED!On view November 5\, 2025–January 31\, 2026  FREE31 								\n				\n					\n		\n					\n		\n				\n				\n							\n			\n		\n						\n				\n				\n				\n									The Asian Elder Portrait Project: The Heart of Chinatown as Seen through the Eyes of a Teen is Luke Sera-Tacorda’s first solo exhibition. Each portrait was drawn with graphite on paper\, using a photograph reference of the subject taken by the artist.    Society often chooses not to see the senior citizens who have built and continue to be part of our communities. Collectively\, we often fail to see their individuality or try to relate to them\, and we all lose when those relationships are unformed. The Asian Elder Portrait Project aims to depict the vibrancy and unique qualities of each elder. Each smile line\, glint in a pair of glasses\, and shy expression conveys a unique and intriguing narrative.    American painter Georgia O’Keeffe (an inspiration to Sera-Tacorda on how to convey mood and emotion through art)\, wrote in 1968\, “When I began to paint flowers\, I was sure nobody would pay attention. So I thought\, I’ll make them big and they’ll pay attention.” Through this project\, Sera-Tacorda aims to magnify the joyous expressions of our elders and show Oakland and the greater Bay Area community why they are worth paying attention to. 								\n				\n				\n				\n							\n			\n		\n						\n				\n				\n				\n							\n			\n		\n						\n				\n				\n						\n					\n			\n						\n				\n																														\n				\n					\n		\n				\n			\n						\n				\n									About the Artist   Luke Sera-Tacorda is the seventeen-year-old artist behind the Asian Elder Portrait Project. As a child\, his family recalls him doodling on notebooks\, restaurant napkins\, and church bulletins before he could talk. Unlike most young kids with an affinity towards visual art\, though\, drawing fantastical subjects never enticed him. Rather\, before he had the language to describe it\, he found joy in accurately depicting the smaller and unassuming details of everyday life: the subtle interplay of light and shadow\, the dynamics of movement\, the mechanics of perspective\, and most of all\, the emotional quality that drew him to his subjects in the first place. Thus\, after years of experimenting with different forms of art\, realism has proven to be his strongest and preferred form of self-expression. He hopes to continue his creative journey by pursuing architecture in college. 
URL:https://oacc.cc/event/satr-e-rahayi/
LOCATION:Oakland Asian Cultural Center\, 388 9th St. #290\, Oakland\, CA\, 94607\, United States
CATEGORIES:Current Exhibitions,Featured
ATTACH;FMTTYPE=image/png:https://oacc.cc/wp-content/uploads/2025/04/Satr-e-Rahayi-Exhibition-thumbnail-2.png
ORGANIZER;CN="Oakland Asian Cultural Center":MAILTO:programs@oacc.cc
END:VEVENT
END:VCALENDAR