BEGIN:VCALENDAR
VERSION:2.0
PRODID:-//Oakland Asian Cultural Center - ECPv6.15.20//NONSGML v1.0//EN
CALSCALE:GREGORIAN
METHOD:PUBLISH
X-WR-CALNAME:Oakland Asian Cultural Center
X-ORIGINAL-URL:https://oacc.cc
X-WR-CALDESC:Events for Oakland Asian Cultural Center
REFRESH-INTERVAL;VALUE=DURATION:PT1H
X-Robots-Tag:noindex
X-PUBLISHED-TTL:PT1H
BEGIN:VTIMEZONE
TZID:America/Los_Angeles
BEGIN:DAYLIGHT
TZOFFSETFROM:-0800
TZOFFSETTO:-0700
TZNAME:PDT
DTSTART:20190310T100000
END:DAYLIGHT
BEGIN:STANDARD
TZOFFSETFROM:-0700
TZOFFSETTO:-0800
TZNAME:PST
DTSTART:20191103T090000
END:STANDARD
BEGIN:DAYLIGHT
TZOFFSETFROM:-0800
TZOFFSETTO:-0700
TZNAME:PDT
DTSTART:20200308T100000
END:DAYLIGHT
BEGIN:STANDARD
TZOFFSETFROM:-0700
TZOFFSETTO:-0800
TZNAME:PST
DTSTART:20201101T090000
END:STANDARD
BEGIN:DAYLIGHT
TZOFFSETFROM:-0800
TZOFFSETTO:-0700
TZNAME:PDT
DTSTART:20210314T100000
END:DAYLIGHT
BEGIN:STANDARD
TZOFFSETFROM:-0700
TZOFFSETTO:-0800
TZNAME:PST
DTSTART:20211107T090000
END:STANDARD
END:VTIMEZONE
BEGIN:VEVENT
DTSTART;TZID=America/Los_Angeles:20200207T183000
DTEND;TZID=America/Los_Angeles:20200207T200000
DTSTAMP:20260422T083239
CREATED:20200109T225440Z
LAST-MODIFIED:20200213T223047Z
UID:7476-1581100200-1581105600@oacc.cc
SUMMARY:Tsuru Fold-In & Film Screening
DESCRIPTION:[vc_row][vc_column][vc_column_text] \nNever again is NOW. Join OACC and Tsuru for Solidarity for a “Tsuru Fold In\,” to fold cranes that will join the “National Pilgrimage to Close the Camps” in June 2020. This movement plans to bring 125\,000 paper cranes\, or tsuru\, as expressions of solidarity with immigrant and refugee communities that are under attack today. The 125\,000 cranes represent the members of the community who were rounded up and incarcerated in U.S. concentration camps during World War II\, including both Japanese Americans and Japanese Latin Americans. Learn more at tsuruforsolidarity.org. \nAccompanying this fold in will be a screening of “And Then They Came For Us.” Watch the trailer: \nhttps://vimeo.com/210002629 \nCo-presented by Oakland Asian Cultural Center\, Tsuru for Solidarity\, and Oakland Public Library. \nThis event is free with a $3-5 suggested donation. No one will be turned away for lack of funds.[/vc_column_text][vc_btn title=”R.S.V.P. TODAY!” color=”warning” align=”center” link=”url:https%3A%2F%2Foacc.liveimpact.org%2Fli%2F8737%2Fsevent%2Fevt%2Fhome%2F132408%2F69||target:%20_blank|”][/vc_column][/vc_row]
URL:https://oacc.cc/event/tsuru-fold-in-film-screening/
LOCATION:Oakland Asian Cultural Center\, 388 9th St. #290\, Oakland\, CA\, 94607\, United States
CATEGORIES:Past Events
ATTACH;FMTTYPE=image/jpeg:https://oacc.cc/wp-content/uploads/2020/01/20200207AndThenWebThumbnail-01.jpg
ORGANIZER;CN="Oakland Asian Cultural Center":MAILTO:programs@oacc.cc
END:VEVENT
END:VCALENDAR