BEGIN:VCALENDAR
VERSION:2.0
PRODID:-//Oakland Asian Cultural Center - ECPv6.15.20//NONSGML v1.0//EN
CALSCALE:GREGORIAN
METHOD:PUBLISH
X-WR-CALNAME:Oakland Asian Cultural Center
X-ORIGINAL-URL:https://oacc.cc
X-WR-CALDESC:Events for Oakland Asian Cultural Center
REFRESH-INTERVAL;VALUE=DURATION:PT1H
X-Robots-Tag:noindex
X-PUBLISHED-TTL:PT1H
BEGIN:VTIMEZONE
TZID:America/Los_Angeles
BEGIN:DAYLIGHT
TZOFFSETFROM:-0800
TZOFFSETTO:-0700
TZNAME:PDT
DTSTART:20180311T100000
END:DAYLIGHT
BEGIN:STANDARD
TZOFFSETFROM:-0700
TZOFFSETTO:-0800
TZNAME:PST
DTSTART:20181104T090000
END:STANDARD
BEGIN:DAYLIGHT
TZOFFSETFROM:-0800
TZOFFSETTO:-0700
TZNAME:PDT
DTSTART:20190310T100000
END:DAYLIGHT
BEGIN:STANDARD
TZOFFSETFROM:-0700
TZOFFSETTO:-0800
TZNAME:PST
DTSTART:20191103T090000
END:STANDARD
BEGIN:DAYLIGHT
TZOFFSETFROM:-0800
TZOFFSETTO:-0700
TZNAME:PDT
DTSTART:20200308T100000
END:DAYLIGHT
BEGIN:STANDARD
TZOFFSETFROM:-0700
TZOFFSETTO:-0800
TZNAME:PST
DTSTART:20201101T090000
END:STANDARD
END:VTIMEZONE
BEGIN:VEVENT
DTSTART;TZID=America/Los_Angeles:20191103T183000
DTEND;TZID=America/Los_Angeles:20191103T203000
DTSTAMP:20260422T083703
CREATED:20190927T203653Z
LAST-MODIFIED:20191109T173601Z
UID:7210-1572805800-1572813000@oacc.cc
SUMMARY:The Sweetest Fruits: A Reading & Conversation with Monique Truong and Soleil Ho
DESCRIPTION:[vc_row][vc_column][vc_column_text] \n  \nJoin us for the Oakland launch of The Sweetest Fruits\, featuring Monique Truong. She will be in conversation with Soleil Ho\, restaurant critic at The San Francisco Chronicle. \nMonique Truong’s highly anticpated new novel\, The Sweetest Fruits\, is a retelling of the life of Lafcadio Hearn through the eyes of three women: his Greek mother\, the African American woman who was his lover and supporter and the Japanese woman who became his wife and literary collaborator. Lafcadio Hearn\, a 19th Century writer best known for his interpretations of Japanese folk tales and customs for Western audiences\, is still revered for his role as one of the first Westerners to try to convey his appreciation and knowledge about Japan. The Sweetest Fruits\, written with careful attention to historical accounts\, provides a new way of looking at and connecting with this important and beloved writer. \nMonique Truong is the author of three novels — The Book of Salt; Bitter in the Mouth; and now\, The Sweetest Fruits\, and her work has been published in fifteen countries. Her awards and honors include the PEN/Robert Bingham Fellowship\, the New York Public Library Young Lions Award\, The Asian American Literary Award\, and the American Academy of Arts and Letters Rosenthal Family Foundation Award. \nSoleil Ho is The San Francisco Chronicle’s restaurant critic and the co-founder of the podcast Racist Sandwich. She is a food\, culture\, and travel writer who has been working in the restaurant industry for more than a decade. She is the co-writer of MEAL\, a graphic novel on culinary mentorship\, queer romance\, and eating insects. \nCo-presented by Oakland Asian Cultural Center\, Eastwind Books of Berkeley\, and the Diasporic Vietnamese Artists Network (DVAN).[/vc_column_text][vc_btn title=”R.S.V.P. FOR EVENT TODAY!” color=”warning” size=”lg” align=”center” button_block=”true” link=”url:https%3A%2F%2Foacc.liveimpact.org%2Fli%2F8737%2Fsevent%2Fevt%2Fhome%2F129471%2F69||target:%20_blank|”][/vc_column][/vc_row]
URL:https://oacc.cc/event/the-sweetest-fruits-a-reading-conversation-with-monique-truong-and-soleil-ho/
LOCATION:Oakland Asian Cultural Center\, 388 9th St. #290\, Oakland\, CA\, 94607\, United States
CATEGORIES:Past Events
ATTACH;FMTTYPE=image/jpeg:https://oacc.cc/wp-content/uploads/2019/07/20191103SFWebsiteThumbnail.jpg
ORGANIZER;CN="Oakland Asian Cultural Center":MAILTO:programs@oacc.cc
END:VEVENT
END:VCALENDAR