BEGIN:VCALENDAR
VERSION:2.0
PRODID:-//Oakland Asian Cultural Center - ECPv6.15.20//NONSGML v1.0//EN
CALSCALE:GREGORIAN
METHOD:PUBLISH
X-WR-CALNAME:Oakland Asian Cultural Center
X-ORIGINAL-URL:https://oacc.cc
X-WR-CALDESC:Events for Oakland Asian Cultural Center
REFRESH-INTERVAL;VALUE=DURATION:PT1H
X-Robots-Tag:noindex
X-PUBLISHED-TTL:PT1H
BEGIN:VTIMEZONE
TZID:America/Los_Angeles
BEGIN:DAYLIGHT
TZOFFSETFROM:-0800
TZOFFSETTO:-0700
TZNAME:PDT
DTSTART:20180311T100000
END:DAYLIGHT
BEGIN:STANDARD
TZOFFSETFROM:-0700
TZOFFSETTO:-0800
TZNAME:PST
DTSTART:20181104T090000
END:STANDARD
BEGIN:DAYLIGHT
TZOFFSETFROM:-0800
TZOFFSETTO:-0700
TZNAME:PDT
DTSTART:20190310T100000
END:DAYLIGHT
BEGIN:STANDARD
TZOFFSETFROM:-0700
TZOFFSETTO:-0800
TZNAME:PST
DTSTART:20191103T090000
END:STANDARD
BEGIN:DAYLIGHT
TZOFFSETFROM:-0800
TZOFFSETTO:-0700
TZNAME:PDT
DTSTART:20200308T100000
END:DAYLIGHT
BEGIN:STANDARD
TZOFFSETFROM:-0700
TZOFFSETTO:-0800
TZNAME:PST
DTSTART:20201101T090000
END:STANDARD
END:VTIMEZONE
BEGIN:VEVENT
DTSTART;TZID=America/Los_Angeles:20191115T190000
DTEND;TZID=America/Los_Angeles:20191115T210000
DTSTAMP:20260422T083504
CREATED:20190927T204109Z
LAST-MODIFIED:20191121T004833Z
UID:7213-1573844400-1573851600@oacc.cc
SUMMARY:OACC Movie Nights: The Farewell
DESCRIPTION:[vc_row][vc_column][vc_column_text] \nIn this funny\, uplifting tale based on an actual lie\, Chinese-born\, U.S.-raised Billi (Awkwafina) reluctantly returns to Changchun to find that\, although the whole family knows their beloved matriarch\, Nai-Nai\, has been given mere weeks to live\, everyone has decided not to tell Nai Nai herself. To assure her happiness\, they gather under the joyful guise of an expedited wedding\, uniting family members scattered among new homes abroad. \nAs Billi navigates a minefield of family expectations and proprieties\, she finds there’s a lot to celebrate: a chance to rediscover the country she left as a child\, her grandmother’s wondrous spirit\, and the ties that keep on binding even when so much goes unspoken. \nStarring Awkwafina\, Diana Lin\, Lu Hong\, Tzi Ma\, Zhao Shuzhen\, and Jiang Yongbo. Written and directed by Lulu Wang. \nCo-presented by Oakland Asian Cultural Center and the Center for Asian American Media (CAAM). \nText: OACC is helping collect canned food donations for Alameda County Community Food Bank this season. \nDonate at least one eligible canned good at OACC Movie Nights: The Farewell screening on Friday\, November 15th and receive a complimentary Cracker Jacks snack box to enjoy with the movie (while supplies last)! Eligible canned goods: canned meats\, canned fish\, low-sodium soups and stews\, nuts\, beans\, brown rice\, quinoa\, peanut butter\, whole grain cereal.\n[/vc_column_text][vc_btn title=”BUY TICKETS TODAY!” color=”warning” size=”lg” align=”center” button_block=”true” link=”url:https%3A%2F%2Fwww.eventbrite.com%2Fe%2Foacc-movie-nights-the-farewell-tickets-81642180961||target:%20_blank|”][/vc_column][/vc_row]
URL:https://oacc.cc/event/oacc-movie-nights-the-farewell/
LOCATION:Oakland Asian Cultural Center\, 388 9th St. #290\, Oakland\, CA\, 94607\, United States
CATEGORIES:Past Events
ATTACH;FMTTYPE=image/jpeg:https://oacc.cc/wp-content/uploads/2019/09/20191115TheFarewellThumbnail.jpg
ORGANIZER;CN="Oakland Asian Cultural Center":MAILTO:programs@oacc.cc
END:VEVENT
END:VCALENDAR