BEGIN:VCALENDAR
VERSION:2.0
PRODID:-//Oakland Asian Cultural Center - ECPv6.15.20//NONSGML v1.0//EN
CALSCALE:GREGORIAN
METHOD:PUBLISH
X-WR-CALNAME:Oakland Asian Cultural Center
X-ORIGINAL-URL:https://oacc.cc
X-WR-CALDESC:Events for Oakland Asian Cultural Center
REFRESH-INTERVAL;VALUE=DURATION:PT1H
X-Robots-Tag:noindex
X-PUBLISHED-TTL:PT1H
BEGIN:VTIMEZONE
TZID:America/Los_Angeles
BEGIN:DAYLIGHT
TZOFFSETFROM:-0800
TZOFFSETTO:-0700
TZNAME:PDT
DTSTART:20190310T100000
END:DAYLIGHT
BEGIN:STANDARD
TZOFFSETFROM:-0700
TZOFFSETTO:-0800
TZNAME:PST
DTSTART:20191103T090000
END:STANDARD
BEGIN:DAYLIGHT
TZOFFSETFROM:-0800
TZOFFSETTO:-0700
TZNAME:PDT
DTSTART:20200308T100000
END:DAYLIGHT
BEGIN:STANDARD
TZOFFSETFROM:-0700
TZOFFSETTO:-0800
TZNAME:PST
DTSTART:20201101T090000
END:STANDARD
BEGIN:DAYLIGHT
TZOFFSETFROM:-0800
TZOFFSETTO:-0700
TZNAME:PDT
DTSTART:20210314T100000
END:DAYLIGHT
BEGIN:STANDARD
TZOFFSETFROM:-0700
TZOFFSETTO:-0800
TZNAME:PST
DTSTART:20211107T090000
END:STANDARD
END:VTIMEZONE
BEGIN:VEVENT
DTSTART;TZID=America/Los_Angeles:20200110T190000
DTEND;TZID=America/Los_Angeles:20200110T210000
DTSTAMP:20260422T083539
CREATED:20191226T213012Z
LAST-MODIFIED:20200116T022250Z
UID:7421-1578682800-1578690000@oacc.cc
SUMMARY:OACC Movie Nights: Nailed It!
DESCRIPTION:[vc_row][vc_column][vc_column_text] \nIn virtually every city\, state and strip mall across the U.S.\, women get their nails done in salons likely owned by Vietnamese entrepreneurs. How did this community come to dominate an $8 billion nail economy? “Nailed It” takes viewers from Los Angeles to the Bronx to meet the diverse people and relationships behind this booming and enigmatic trade. The documentary premiered on PBS in May 2019\, and is the highest streamed fi­lm of the America Reframed series. Uncover the real history of the Vietnamese nail salon! \nAfter the screening\, stay for a special Q&A session with filmmaker Adele Free Pham. \nThis event is free with a $3-5 suggested donation. No one will be turned away for lack of funds. \nThis event is co-sponsored by Oakland Asian Cultural Center and Diasporic Vietnamese Artists Network (DVAN).[/vc_column_text][vc_btn title=”R.S.V.P. TODAY!” color=”warning” align=”center” link=”url:https%3A%2F%2Foacc.liveimpact.org%2Fli%2F8737%2Fsevent%2Fevt%2Fhome%2F132026%2F69||target:%20_blank|”][/vc_column][/vc_row]
URL:https://oacc.cc/event/oacc-movie-nights-nailed-it/
LOCATION:Oakland Asian Cultural Center\, 388 9th St. #290\, Oakland\, CA\, 94607\, United States
CATEGORIES:Past Events
ATTACH;FMTTYPE=image/png:https://oacc.cc/wp-content/uploads/2019/12/20200110NailedItThumbnail.png
ORGANIZER;CN="Oakland Asian Cultural Center":MAILTO:programs@oacc.cc
END:VEVENT
END:VCALENDAR