BEGIN:VCALENDAR
VERSION:2.0
PRODID:-//Oakland Asian Cultural Center - ECPv6.15.20//NONSGML v1.0//EN
CALSCALE:GREGORIAN
METHOD:PUBLISH
X-WR-CALNAME:Oakland Asian Cultural Center
X-ORIGINAL-URL:https://oacc.cc
X-WR-CALDESC:Events for Oakland Asian Cultural Center
REFRESH-INTERVAL;VALUE=DURATION:PT1H
X-Robots-Tag:noindex
X-PUBLISHED-TTL:PT1H
BEGIN:VTIMEZONE
TZID:America/Los_Angeles
BEGIN:DAYLIGHT
TZOFFSETFROM:-0800
TZOFFSETTO:-0700
TZNAME:PDT
DTSTART:20180311T100000
END:DAYLIGHT
BEGIN:STANDARD
TZOFFSETFROM:-0700
TZOFFSETTO:-0800
TZNAME:PST
DTSTART:20181104T090000
END:STANDARD
BEGIN:DAYLIGHT
TZOFFSETFROM:-0800
TZOFFSETTO:-0700
TZNAME:PDT
DTSTART:20190310T100000
END:DAYLIGHT
BEGIN:STANDARD
TZOFFSETFROM:-0700
TZOFFSETTO:-0800
TZNAME:PST
DTSTART:20191103T090000
END:STANDARD
BEGIN:DAYLIGHT
TZOFFSETFROM:-0800
TZOFFSETTO:-0700
TZNAME:PDT
DTSTART:20200308T100000
END:DAYLIGHT
BEGIN:STANDARD
TZOFFSETFROM:-0700
TZOFFSETTO:-0800
TZNAME:PST
DTSTART:20201101T090000
END:STANDARD
END:VTIMEZONE
BEGIN:VEVENT
DTSTART;TZID=America/Los_Angeles:20190816T180000
DTEND;TZID=America/Los_Angeles:20190816T200000
DTSTAMP:20260422T083407
CREATED:20190621T003055Z
LAST-MODIFIED:20190828T165246Z
UID:6715-1565978400-1565985600@oacc.cc
SUMMARY:OACC Movie Nights: Afghan Cycles
DESCRIPTION:[vc_row][vc_column][vckit_image_banner title=”” tutorial=”” image=”6716″][vc_column_text]Following a new generation of young Afghan women cyclists\, Afghan Cycles uses the bicycle to tell a story of women’s rights – human rights – and the struggles faced by Afghan women on a daily basis\, from discrimination to abuse\, to the oppressive silencing of their voices in all aspects of contemporary society. These women ride despite cultural barriers\, despite infrastructure\, and despite death threats\, embracing the power and freedom that comes with the sport. This documentary is a production of Lit Media directed and produced by Sarah Menzies. The film is approximately 1 hour\, 30 minutes long. Reception to follow. \nCo-presented by Oakland Asian Cultural Center and Oakland Public Library.[/vc_column_text][vc_btn title=”Click Here to RSVP” link=”url:https%3A%2F%2Fwww.eventbrite.com%2Fe%2Foacc-movie-nights-afghan-cycles-tickets-62679701675||target:%20_blank|”][/vc_column][/vc_row]
URL:https://oacc.cc/event/oacc-movie-nights-afghan-cycles/
LOCATION:Oakland Asian Cultural Center\, 388 9th St. #290\, Oakland\, CA\, 94607\, United States
CATEGORIES:Past Events
ATTACH;FMTTYPE=image/jpeg:https://oacc.cc/wp-content/uploads/2019/06/AC_KEYART_INSTAGRAM.jpg
END:VEVENT
END:VCALENDAR