BEGIN:VCALENDAR
VERSION:2.0
PRODID:-//Oakland Asian Cultural Center - ECPv6.15.20//NONSGML v1.0//EN
CALSCALE:GREGORIAN
METHOD:PUBLISH
X-WR-CALNAME:Oakland Asian Cultural Center
X-ORIGINAL-URL:https://oacc.cc
X-WR-CALDESC:Events for Oakland Asian Cultural Center
REFRESH-INTERVAL;VALUE=DURATION:PT1H
X-Robots-Tag:noindex
X-PUBLISHED-TTL:PT1H
BEGIN:VTIMEZONE
TZID:America/Los_Angeles
BEGIN:DAYLIGHT
TZOFFSETFROM:-0800
TZOFFSETTO:-0700
TZNAME:PDT
DTSTART:20180311T100000
END:DAYLIGHT
BEGIN:STANDARD
TZOFFSETFROM:-0700
TZOFFSETTO:-0800
TZNAME:PST
DTSTART:20181104T090000
END:STANDARD
BEGIN:DAYLIGHT
TZOFFSETFROM:-0800
TZOFFSETTO:-0700
TZNAME:PDT
DTSTART:20190310T100000
END:DAYLIGHT
BEGIN:STANDARD
TZOFFSETFROM:-0700
TZOFFSETTO:-0800
TZNAME:PST
DTSTART:20191103T090000
END:STANDARD
BEGIN:DAYLIGHT
TZOFFSETFROM:-0800
TZOFFSETTO:-0700
TZNAME:PDT
DTSTART:20200308T100000
END:DAYLIGHT
BEGIN:STANDARD
TZOFFSETFROM:-0700
TZOFFSETTO:-0800
TZNAME:PST
DTSTART:20201101T090000
END:STANDARD
END:VTIMEZONE
BEGIN:VEVENT
DTSTART;TZID=America/Los_Angeles:20191117T153000
DTEND;TZID=America/Los_Angeles:20191117T170000
DTSTAMP:20260422T083555
CREATED:20190927T204446Z
LAST-MODIFIED:20191121T004900Z
UID:7216-1574004600-1574010000@oacc.cc
SUMMARY:Manga\, Comics & Illustration with Oliver Chin and Chris Sasaki
DESCRIPTION:[vc_row][vc_column][vc_column_text] \nTwo new books introduce the world of Japanese animation and manga\, and the life of illustrator Tyrus Wong\, to young readers. Don’t miss this event with two local animation and art directors!  \nAnime and manga have never been more popular. How did iconic characters like Totoro or Pokemon become Japanese pop culture and attract a worldwide following? And how did Tyrus Wong\, a Chinese American immigrant\, bring Disney’s Bambi to life? \nJoin us for an event celebrating two new books that introduce the world of Japanese animation and manga\, and the life of the artist Tyrus Wong to young readers. San Francisco-based writer Oliver Chin\, a co-author of The Discovery of Anime and Manga\, will share his book about a time traveling panda named Dao who transports two young companions to the early days of anime and manga in Japan. Oakland-based illustrator Chris Sasaki will share his storyboards from a new picture-book biography Paper Song: The Inspiring Story of Tyrus Wong\, Immigrant and Artist\, written by Julie Leung. \nOliver Chin is a comic book veteran and the co-author of The Discovery of Anime and Manga\, a picture book about how anime and manga came to be. Co-authored by Phil Amara and illustrator Juan Calle\, the book is the third in the Asian Hall of Fame series. He is the author of over 15 books\, including the popular annual children’s book series Tales from the Chinese Zodiac. He presents at schools\, libraries\, and museums nationwide and teaches artists of all ages how to create their own comic books. \nCo-presented by Oakland Asian Cultural Center and Eastwind Books of Berkeley.[/vc_column_text][vc_btn title=”R.S.V.P. TODAY!” color=”warning” size=”lg” align=”center” button_block=”true” link=”url:https%3A%2F%2Foacc.liveimpact.org%2Fli%2F8737%2Fsevent%2Fevt%2Fhome%2F129484%2F69||target:%20_blank|”][/vc_column][/vc_row]
URL:https://oacc.cc/event/manga-comics-illustration-with-oliver-chin-and-chris-sasaki/
LOCATION:Oakland Asian Cultural Center\, 388 9th St. #290\, Oakland\, CA\, 94607\, United States
CATEGORIES:Past Events
ATTACH;FMTTYPE=image/jpeg:https://oacc.cc/wp-content/uploads/2019/07/20191117MCWebsiteThumbnail.jpg
ORGANIZER;CN="Oakland Asian Cultural Center":MAILTO:programs@oacc.cc
END:VEVENT
END:VCALENDAR