BEGIN:VCALENDAR
VERSION:2.0
PRODID:-//Oakland Asian Cultural Center - ECPv6.15.20//NONSGML v1.0//EN
CALSCALE:GREGORIAN
METHOD:PUBLISH
X-WR-CALNAME:Oakland Asian Cultural Center
X-ORIGINAL-URL:https://oacc.cc
X-WR-CALDESC:Events for Oakland Asian Cultural Center
REFRESH-INTERVAL;VALUE=DURATION:PT1H
X-Robots-Tag:noindex
X-PUBLISHED-TTL:PT1H
BEGIN:VTIMEZONE
TZID:America/Los_Angeles
BEGIN:DAYLIGHT
TZOFFSETFROM:-0800
TZOFFSETTO:-0700
TZNAME:PDT
DTSTART:20190310T100000
END:DAYLIGHT
BEGIN:STANDARD
TZOFFSETFROM:-0700
TZOFFSETTO:-0800
TZNAME:PST
DTSTART:20191103T090000
END:STANDARD
BEGIN:DAYLIGHT
TZOFFSETFROM:-0800
TZOFFSETTO:-0700
TZNAME:PDT
DTSTART:20200308T100000
END:DAYLIGHT
BEGIN:STANDARD
TZOFFSETFROM:-0700
TZOFFSETTO:-0800
TZNAME:PST
DTSTART:20201101T090000
END:STANDARD
BEGIN:DAYLIGHT
TZOFFSETFROM:-0800
TZOFFSETTO:-0700
TZNAME:PDT
DTSTART:20210314T100000
END:DAYLIGHT
BEGIN:STANDARD
TZOFFSETFROM:-0700
TZOFFSETTO:-0800
TZNAME:PST
DTSTART:20211107T090000
END:STANDARD
END:VTIMEZONE
BEGIN:VEVENT
DTSTART;TZID=America/Los_Angeles:20200212T180000
DTEND;TZID=America/Los_Angeles:20200212T200000
DTSTAMP:20260422T083231
CREATED:20200130T235928Z
LAST-MODIFIED:20200213T223053Z
UID:7564-1581530400-1581537600@oacc.cc
SUMMARY:Community Input Session for a New Mural
DESCRIPTION:[vc_row][vc_column][vc_column_text] \nIn collaboration with The Greenlining Institute\, the Community Rejuvenation Project (CRP) is creating a new mural located at the Greenlining building at 360 14th St. in Oakland. \nThrough the production process\, CRP is reaching out to the community to broaden the conversation around arts and culture\, public art\, cultural equity\, and cultural preservation – including opportunities for direct input into the mural design process from community members like YOU! \nCome out to OACC and share your thoughts on this new mural. \nFor more information: \nwww.CRPBayArea.org \nGreenlining.org \n@CRPBayArea \n@WithoutMyEgo[/vc_column_text][vc_btn title=”R.S.V.P. TODAY” color=”warning” size=”lg” align=”center” button_block=”true” link=”url:https%3A%2F%2Foacc.liveimpact.org%2Fli%2F8737%2Fsevent%2Fevt%2Fhome%2F133126%2F69||target:%20_blank|”][/vc_column][/vc_row]
URL:https://oacc.cc/event/community-input-session-for-a-new-mural/
LOCATION:Oakland Asian Cultural Center\, 388 9th St. #290\, Oakland\, CA\, 94607\, United States
CATEGORIES:Past Events
ATTACH;FMTTYPE=image/jpeg:https://oacc.cc/wp-content/uploads/2020/01/20200212CommRejuvenationThumbnail.jpg
ORGANIZER;CN="Oakland Asian Cultural Center":MAILTO:programs@oacc.cc
END:VEVENT
END:VCALENDAR