BEGIN:VCALENDAR
VERSION:2.0
PRODID:-//Oakland Asian Cultural Center - ECPv6.15.20//NONSGML v1.0//EN
CALSCALE:GREGORIAN
METHOD:PUBLISH
X-WR-CALNAME:Oakland Asian Cultural Center
X-ORIGINAL-URL:https://oacc.cc
X-WR-CALDESC:Events for Oakland Asian Cultural Center
REFRESH-INTERVAL;VALUE=DURATION:PT1H
X-Robots-Tag:noindex
X-PUBLISHED-TTL:PT1H
BEGIN:VTIMEZONE
TZID:America/Los_Angeles
BEGIN:DAYLIGHT
TZOFFSETFROM:-0800
TZOFFSETTO:-0700
TZNAME:PDT
DTSTART:20180311T100000
END:DAYLIGHT
BEGIN:STANDARD
TZOFFSETFROM:-0700
TZOFFSETTO:-0800
TZNAME:PST
DTSTART:20181104T090000
END:STANDARD
BEGIN:DAYLIGHT
TZOFFSETFROM:-0800
TZOFFSETTO:-0700
TZNAME:PDT
DTSTART:20190310T100000
END:DAYLIGHT
BEGIN:STANDARD
TZOFFSETFROM:-0700
TZOFFSETTO:-0800
TZNAME:PST
DTSTART:20191103T090000
END:STANDARD
BEGIN:DAYLIGHT
TZOFFSETFROM:-0800
TZOFFSETTO:-0700
TZNAME:PDT
DTSTART:20200308T100000
END:DAYLIGHT
BEGIN:STANDARD
TZOFFSETFROM:-0700
TZOFFSETTO:-0800
TZNAME:PST
DTSTART:20201101T090000
END:STANDARD
END:VTIMEZONE
BEGIN:VEVENT
DTSTART;TZID=America/Los_Angeles:20190317T160000
DTEND;TZID=America/Los_Angeles:20190317T183000
DTSTAMP:20260422T083452
CREATED:20190129T024813Z
LAST-MODIFIED:20190404T165100Z
UID:5600-1552838400-1552847400@oacc.cc
SUMMARY:CHOPIN & CHINA Concert with Pianist Eileen Huang
DESCRIPTION:March 17\, 2019\, 4:00 pm – 6:30 pm\nTickets: $15 (student)\, $25 (adult)\, $35 VIP (Admission & Reception) \nEnjoy a delightful evening of classical music featuring Chopin and traditional Chinese music with acclaimed pianist Eileen Huang. VIP ticket holders are invited to a reception after the performance. \nPianist Eileen Huang (黄爱莲)\, is the founder and director of International Chamber Music Camp and Festival (ICMC) in Positano\, Italy\, Shanghai and France since 1998. \nEileen was born in Chongqing\, China\, and began her piano studies at age 6. At the age of eleven\, she won the National Young Musicians Performance Competition and was admitted to the Central Conservatory in Beijing from where she graduated in 1966. Like many other Chinese musicians\, her career was put on hold for 7 years during the Cultural Revolution. \nMore info and buy tickets here
URL:https://oacc.cc/event/chopin-china-concert-with-pianist-eileen-huang/
LOCATION:Oakland Asian Cultural Center\, 388 9th St. #290\, Oakland\, CA\, 94607\, United States
CATEGORIES:Past Events
ATTACH;FMTTYPE=image/png:https://oacc.cc/wp-content/uploads/2019/01/image-holder-logo.png
END:VEVENT
END:VCALENDAR