BEGIN:VCALENDAR
VERSION:2.0
PRODID:-//Oakland Asian Cultural Center - ECPv6.15.20//NONSGML v1.0//EN
CALSCALE:GREGORIAN
METHOD:PUBLISH
X-WR-CALNAME:Oakland Asian Cultural Center
X-ORIGINAL-URL:https://oacc.cc
X-WR-CALDESC:Events for Oakland Asian Cultural Center
REFRESH-INTERVAL;VALUE=DURATION:PT1H
X-Robots-Tag:noindex
X-PUBLISHED-TTL:PT1H
BEGIN:VTIMEZONE
TZID:America/Los_Angeles
BEGIN:DAYLIGHT
TZOFFSETFROM:-0800
TZOFFSETTO:-0700
TZNAME:PDT
DTSTART:20180311T100000
END:DAYLIGHT
BEGIN:STANDARD
TZOFFSETFROM:-0700
TZOFFSETTO:-0800
TZNAME:PST
DTSTART:20181104T090000
END:STANDARD
BEGIN:DAYLIGHT
TZOFFSETFROM:-0800
TZOFFSETTO:-0700
TZNAME:PDT
DTSTART:20190310T100000
END:DAYLIGHT
BEGIN:STANDARD
TZOFFSETFROM:-0700
TZOFFSETTO:-0800
TZNAME:PST
DTSTART:20191103T090000
END:STANDARD
BEGIN:DAYLIGHT
TZOFFSETFROM:-0800
TZOFFSETTO:-0700
TZNAME:PDT
DTSTART:20200308T100000
END:DAYLIGHT
BEGIN:STANDARD
TZOFFSETFROM:-0700
TZOFFSETTO:-0800
TZNAME:PST
DTSTART:20201101T090000
END:STANDARD
END:VTIMEZONE
BEGIN:VEVENT
DTSTART;TZID=America/Los_Angeles:20190429T190000
DTEND;TZID=America/Los_Angeles:20190429T210000
DTSTAMP:20260422T083407
CREATED:20190403T135607Z
LAST-MODIFIED:20190430T201949Z
UID:6309-1556564400-1556571600@oacc.cc
SUMMARY:Bonnie Kwong’s Intersectional Theater Project Table Read
DESCRIPTION:[vc_row][vc_column width=”1/2″][vc_column_text][/vc_column_text][/vc_column][vc_column width=”1/2″][vc_column_text] \n\n\nEnjoy and participate in the creative process of the intersectional theater project. The table read will offer community members and story circle participants a glimpse into the creative process of playwrights Bonnie Wai-Lee Kwong and Cleavon Smith\, as well as an opportunity to provide feedback as the two playwrights read parts of the first draft of the collaborative script on the theme: What Makes Oakland Home? \nClick Here for more Information and to RSVP \n\n\n[/vc_column_text][/vc_column][/vc_row]
URL:https://oacc.cc/event/bonnie-kwongs-intersectional-theater-project-table-read/
LOCATION:Oakland Asian Cultural Center\, 388 9th St. #290\, Oakland\, CA\, 94607\, United States
CATEGORIES:Past Events
ATTACH;FMTTYPE=image/png:https://oacc.cc/wp-content/uploads/2019/04/Escapery_Oakland-Home-2-1-1.png
END:VEVENT
END:VCALENDAR