BEGIN:VCALENDAR
VERSION:2.0
PRODID:-//Oakland Asian Cultural Center - ECPv6.15.20//NONSGML v1.0//EN
CALSCALE:GREGORIAN
METHOD:PUBLISH
X-WR-CALNAME:Oakland Asian Cultural Center
X-ORIGINAL-URL:https://oacc.cc
X-WR-CALDESC:Events for Oakland Asian Cultural Center
REFRESH-INTERVAL;VALUE=DURATION:PT1H
X-Robots-Tag:noindex
X-PUBLISHED-TTL:PT1H
BEGIN:VTIMEZONE
TZID:America/Los_Angeles
BEGIN:DAYLIGHT
TZOFFSETFROM:-0800
TZOFFSETTO:-0700
TZNAME:PDT
DTSTART:20180311T100000
END:DAYLIGHT
BEGIN:STANDARD
TZOFFSETFROM:-0700
TZOFFSETTO:-0800
TZNAME:PST
DTSTART:20181104T090000
END:STANDARD
BEGIN:DAYLIGHT
TZOFFSETFROM:-0800
TZOFFSETTO:-0700
TZNAME:PDT
DTSTART:20190310T100000
END:DAYLIGHT
BEGIN:STANDARD
TZOFFSETFROM:-0700
TZOFFSETTO:-0800
TZNAME:PST
DTSTART:20191103T090000
END:STANDARD
BEGIN:DAYLIGHT
TZOFFSETFROM:-0800
TZOFFSETTO:-0700
TZNAME:PDT
DTSTART:20200308T100000
END:DAYLIGHT
BEGIN:STANDARD
TZOFFSETFROM:-0700
TZOFFSETTO:-0800
TZNAME:PST
DTSTART:20201101T090000
END:STANDARD
END:VTIMEZONE
BEGIN:VEVENT
DTSTART;TZID=America/Los_Angeles:20190503T180000
DTEND;TZID=America/Los_Angeles:20190503T193000
DTSTAMP:20260422T083254
CREATED:20190403T142749Z
LAST-MODIFIED:20190515T171848Z
UID:6326-1556906400-1556911800@oacc.cc
SUMMARY:Bonnie Kwong Workshop: ZINE Making
DESCRIPTION:[vc_row][vc_column width=”1/3″][vc_column_text][/vc_column_text][/vc_column][vc_column width=”2/3″][vc_column_text] \nBonnie Kwong Workshop: ZINE Making\nMay 3 @ 6:00 pm – 7:30 pm\nFree\n\n\nWhat makes a place a home? Ask yourself this question and create a small stapled magazine\, otherwise known as a zine\, with artist\, writer and performer Bonnie Kwong. Participants in this workshop experiment with pen & ink drawing\, watercolor\, cut and paste techniques\, collage and markers\, to reflect\, make art\, write\, and learn. Collection of the final projects will be published on OACC website in a digital format. \n\n[/vc_column_text][vc_btn title=”RSVP FOR THIS EVENT” style=”flat” color=”orange” link=”url:https%3A%2F%2Fwww.eventbrite.com%2Fe%2Fbonnie-kwong-workshop-zine-making-tickets-58667310505||target:%20_blank|”][/vc_column][/vc_row]
URL:https://oacc.cc/event/bonnie-kwong-workshop-zine-making/
LOCATION:Oakland Asian Cultural Center\, 388 9th St. #290\, Oakland\, CA\, 94607\, United States
CATEGORIES:Past Events
ATTACH;FMTTYPE=image/png:https://oacc.cc/wp-content/uploads/2019/03/headshot-FTRD.png
END:VEVENT
END:VCALENDAR